Workbook

Sheet perkades apbdesa 2024
E1: Lampiran Peraturan Kepala Desa
E2: Nomor : .....................
E3: Tahun : 2024
A5: PENJABARAN ANGGARAN PENDAPATAN DAN BELANJA DESA PEMERINTAH DESA KARANGANYAR
A7: TAHUN ANGGARAN 2024
A9: KODE REKENING | C9: URAIAN | D9: KELUARAN/OUT PUT | F9: ANGGARAN | G9: SUMBER DANA
D11: VOLUME | E11: SATUAN
A12: 1 | B12: 2 | C12: 3 | D12: 4 | E12: 5 | F12: 6 | G12: 7 | I12: =84000000+92400000 -> 176400000
B13: 4. | C13: PENDAPATAN | I13: =H15-I12 -> 63658000
B15: 4.1. | C15: Pendapatan Asli Desa | F15: =F16 -> 240058000 | H15: =F40+F46+F49+F56+F55+F58+F161+F165+F61+F134+F149+F150+F154+F275+F273 -> 240058000 | J15: =F15-H15 -> 0
B16: 4.1.2. | C16: Hasil Aset Desa | F16: 240058000
B17: 4.1.2.01 | C17: Pengelolaan Tanah Kas Desa | F17: 240058000
B18: 4.2. | C18: Pendapatan Transfer | F18: =F19+F21+F23+F25 -> 2454477000 | H18: =F19+F21+F23+F25 -> 2454477000
B19: 4.2.1. | C19: Dana Desa | F19: =F20 -> 1660966000
B20: 4.2.1.01 | C20: Dana Desa | F20: 1660966000 | H20: =F78+(F167-60000000)+F296+F323+F251+F260+F104 -> 1835966000 | J20: =F20-H20 -> -175000000 | K20: =F339-J20 -> 175000000
B21: 4.2.2. | C21: Bagi Hasil Pajak dan Retribusi | F21: =F22 -> 25300000 | H21: =F159+F276+F119+F126+F92 -> 25300000 | J21: =F21-H21 -> 0
B22: 4.2.2.01 | C22: Bagi Hasil Pajak dan Retribusi Daerah Kabupaten/Kota | F22: 25300000
B23: 4.2.3. | C23: Alokasi Dana Desa | F23: =F24 -> 528211000
B24: 4.2.3.01 | C24: Alokasi Dana Desa | F24: 528211000 | H24: =F38+F39+F44+F45+F59+F63+F67+F86+F96+F135 -> 492461000 | J24: =F24-H24 -> 35750000
B25: 4.2.4. | C25: Bantuan Keuangan Provinsi | F25: =F26 -> 240000000 | H25: =F223+F287 -> 65000000 | J25: =F25-H25 -> 175000000
B26: 4.2.4.01 | C26: Bantuan Keuangan dari APBD Provinsi | F26: =65000000+175000000 -> 240000000
B27: 4.3. | C27: Pendapatan Lain-lain | F27: =F28 -> 4800000
B28: 4.3.6. | C28: Bunga Bank | F28: =F29 -> 4800000
B29: 4.3.6.01 | C29: Bunga Bank | F29: 4800000 | H29: =F100+F142 -> 4800000 | J29: =F29-H29 -> 0
C30: JUMLAH PENDAPATAN | F30: =F27+F18+F15 -> 2699335000
J31: =H15+H18+F27 -> 2699335000
B32: 5. | C32: BELANJA
A33: 1 | C33: BIDANG PENYELENGGARAN PEMERINTAHAN DESA | F33: =F34+F86+F91+F125+F155 -> 844944800
A34: 01.01. | C34: Penyelenggaran Belanja Siltap, Tunjangan dan Operasional Pemerintahan Desa | F34: =F35+F41+F47+F52+F62+F67+F74+F78 -> 766189000
A35: 1.01.01. | C35: Penyediaan Penghasilan Tetap dan Tunjangan Kepala Desa | F35: =F36 -> 122400000
A36: 1.01.01. | B36: 5.1. | C36: Belanja Pegawai | F36: =F37 -> 122400000
A37: 1.01.01. | B37: 5.1.1. | C37: Penghasilan Tetap dan Tunjangan Kepala Desa | F37: =F38+F39+F40 -> 122400000
A38: 1.01.01. | B38: 5.1.1.01 | C38: Penghasilan Tetap Kepala Desa | F38: 36000000 | G38: add
A39: 1.01.01. | B39: 5.1.1.02 | C39: Tunjangan Kepala Desa | F39: 2400000 | G39: add
A40: 1.01.01. | B40: 5.1.1.90 | C40: Tambahan Tunjangan Kepala Desa | F40: 84000000 | G40: pad
A41: 1.01.02. | C41: Penyediaan Penghasilan Tetap dan Tunjangan Perangkat Desa | F41: =F42 -> 454500000 | J41: 92400000
A42: 1.01.02. | B42: 5.1. | C42: Belanja Pegawai | F42: =F43 -> 454500000 | J42: 23756650
A43: 1.01.02. | B43: 5.1.2. | C43: Penghasilan Tetap dan Tunjangan Perangkat Desa | F43: =F44+F45+F46 -> 454500000 | J43: 6321350
A44: 1.01.02. | B44: 5.1.2.01 | C44: Penghasilan Tetap Perangkat Desa | F44: 344700000 | G44: add | J44: 4500000
A45: 1.01.02. | B45: 5.1.2.02 | C45: Tunjangan Perangkat Desa | F45: 17400000 | G45: add | J45: 3600000
A46: 1.01.02. | B46: 5.1.2.90 | C46: Tambahan Tunjangan Perangkat Desa | F46: 92400000 | G46: pad
A47: 1.01.03. | C47: Penyediaan Jaminan Sosial bagi Kepala Desa dan Perangkat Desa | F47: =F48 -> 23756650 | J47: 180000
A48: 1.01.03. | B48: 5.1. | C48: Belanja Pegawai | F48: =F49 -> 23756650 | J48: 600000
A49: 1.01.03. | B49: 5.1.3. | C49: Jaminan Sosial Kepala Desa dan Perangkat Desa | F49: =F50+F51 -> 23756650 | G49: pad
A50: 1.01.03. | B50: 5.1.3.03 | C50: Jaminan Ketenagakerjaan Kepala Desa | F50: 2246850 | J50: 5000000
A51: 1.01.03. | B51: 5.1.3.04 | C51: Jaminan Ketenagakerjaan Perangkat Desa | F51: 21509800 | J51: 4000000
A52: 1.01.04. | C52: Penyediaan Operasional Pemerintah Desa (ATK, Honor PKPKD dan PPKD dll) | F52: =F53 -> 60321350 | J52: 9500000
A53: 1.01.04. | B53: 5.2. | C53: Belanja Barang dan Jasa | F53: =F54+F57+F60 -> 60321350
A54: 1.01.04. | B54: 5.2.1. | C54: Belanja Barang Perlengkapan | F54: =F55+F56 -> 10821350
A55: 1.01.04. | B55: 5.2.1.01 | C55: Belanja Alat Tulis Kantor dan Benda Pos | F55: 6321350 | G55: pad
A56: 1.01.04. | B56: 5.2.1.06 | C56: Belanja Barang Konsumsi (Makan/Minum) | F56: 4500000 | G56: pad
A57: 1.01.04. | B57: 5.2.2. | C57: Belanja Jasa Honorarium | F57: =F58+F59 -> 45900000
A58: 1.01.04. | B58: 5.2.2.05 | C58: Belanja Jasa Honorarium Petugas ( Operator Siskeu ) | F58: 4200000 | G58: pad
A59: 1.01.04. | B59: 5.2.2.06 | C59: Belanja Jasa Honorarium PKPKD dan PPKD | F59: 41700000 | G59: add
A60: 1.01.04. | B60: 5.2.5. | C60: Belanja Operasional Perkantoran | F60: =F61 -> 3600000
A61: 1.01.04. | B61: 5.2.5.01 | C61: Belanja Jasa Langganan Listrik | F61: 3600000 | G61: pad
A62: 1.01.05. | C62: Penyediaan Tunjangan BPD | F62: =F63 -> 23400000
A63: 1.01.05. | B63: 5.1. | C63: Belanja Pegawai | F63: =F64 -> 23400000 | G63: add
A64: 1.01.05. | B64: 5.1.4. | C64: Tunjangan BPD | F64: =F65+F66 -> 23400000
A65: 1.01.05. | B65: 5.1.4.01 | C65: Tunjangan Kedudukan BPD | F65: 23400000
A67: 1.01.06. | C67: Penyediaan Operasional BPD (rapat, ATK, Makan Minum, Pakaian Seragam, Listrik dll) | F67: 6061000 | G67: add
A68: 1.01.06. | B68: 5.2. | C68: Belanja Barang dan Jasa | F68: =F69+F72 -> 6061000 | H68: 200000 | I68: 150000 | J68: 150000 | K68: =100000*6 -> 600000 | M68: =SUM(H68:K68) -> 1100000
A69: 1.01.06. | B69: 5.2.1. | C69: Belanja Barang Perlengkapan | F69: =F70+F71 -> 1661000
A70: 1.01.06. | B70: 5.2.1.01 | C70: Belanja Alat Tulis Kantor dan Benda Pos | F70: 581000
A71: 1.01.06. | B71: 5.2.1.06 | C71: Belanja konsumsi ( makan/minum rapat,) | F71: 1080000 | I71: =10*12*9 -> 1080
A72: 1.01.06. | B72: 5.2.2. | C72: Belanja Jasa Honorarium | F72: =F73 -> 4400000 | M72: 4
A73: 1.01.06. | B73: 5.2.2.99 | C73: Belanja Jasa Honorarium Lainnya | F73: 4400000
A74: 1.01.07 | C74: Penyediaan Insentif/Operasional RT/RW | F74: =F75 -> 26750000 | G74: add
A75: 1.01.07 | B75: 5.2 | C75: Belanja barang dan jasa | F75: =F76 -> 26750000
A76: 1.01.07 | B76: 5.2.2 | C76: Belanja jasa honorarium | F76: =F77 -> 26750000
A77: 1.01.07 | B77: 5.2.2.03 | C77: Belanja jasa honorarium/insentif RT/RW | F77: 26750000
A78: 1.01.08. | C78: Penyediaan Operasional Pemerintah Desa yang bersumber dari Dana Desa | F78: =F79 -> 49000000 | G78: dd | M78: =M68*M72 -> 4400000
A79: 1.01.08. | B79: 5.2. | C79: Belanja Barang dan Jasa | F79: =F80+F82+F83 -> 49000000
A80: 1.01.08. | B80: 5.2.1. | C80: Belanja barang perlengkapan | F80: =F81 -> 15000000
A81: 1.01.08. | B81: 5.2.1.06 | C81: Belanja konsumsi ( makan/minum rapat, amuan tamu ) | F81: 15000000
A82: 1.01.08. | B82: 5.2.1.07 | C82: Belanja barang dan jasa untuk diserahkan kepada masyarakat ( peralatan sekolah bagi siswa miskin berprestasi ) | F82: 16000000
A83: 1.01.08. | B83: 5.2.3. | C83: Belanja Perjalanan Dinas | F83: =F84+F85 -> 18000000
A84: 1.01.08. | B84: 5.2.3.01 | C84: Belanja Perjalanan Dinas ke Kecamatan | F84: 12000000
A85: 1.01.08. | B85: 5.2.3.02 | C85: Belanja Perjalanan Dinas ke Kabupaten/Kota | F85: 6000000
A86: 01.02. | C86: Penyediaan Sarana Prasarana Pemerintahan Desa | F86: 5400000 | G86: add
A87: 1.02.01. | C87: Penyediaan Sarana (Aset Tetap) Perkantoran/Pemerintahan | F87: =F88 -> 5400000
A88: 1.02.01. | B88: 5.2. | C88: Belanja Barang dan Jasa | F88: =F89 -> 5400000
A89: 1.02.01. | B89: 5.2.2. | C89: Belanja Jasa Honorarium | F89: =F90 -> 5400000
A90: 1.02.01. | B90: 5.2.2.05 | C90: Belanja Jasa Honorarium Petugas | F90: 5400000
A91: 01.03. | C91: Pengelolaan Administrasi Kependudukan, Pencatatan Sipil, Statistik dan Kearsipan | F91: =F92+F96+F100+F104+F119 -> 44475800
A92: 1.03.01. | C92: Pelayanan Administrasi Umum dan Kependudukan | F92: =F93 -> 1500000 | G92: pbh
A93: 1.03.01. | B93: 5.2. | C93: Belanja Barang dan Jasa | F93: =F94 -> 1500000
A94: 1.03.01. | B94: 5.2.1. | C94: Belanja Barang Perlengkapan | F94: =F95 -> 1500000
A95: 1.03.01. | B95: 5.2.1.01 | C95: Belanja Alat Tulis Kantor dan Benda Pos | F95: 1500000
A96: 1.03.02. | C96: Penyusunan, Pendataan, dan Pemutakhiran Profil Desa **) | F96: 5400000 | G96: add
A97: 1.03.02. | B97: 5.2. | C97: Belanja Barang dan Jasa | F97: =F98 -> 5400000
A98: 1.03.02. | B98: 5.2.2. | C98: Belanja Jasa Honorarium | F98: =F99 -> 5400000
A99: 1.03.02. | B99: 5.2.2.05 | C99: Belanja Jasa Honorarium Petugas | F99: 5400000
A100: 1.03.05. | C100: Pemetaan dan Analisis Kemiskinan Desa secara Partisipatif | F100: =F101 -> 2400000
A101: 1.03.05. | B101: 5.2. | C101: Belanja Barang dan Jasa | F101: =F102 -> 2400000
A102: 1.03.05. | B102: 5.2.2. | C102: Belanja Jasa Honorarium | F102: =F103 -> 2400000
A103: 1.03.05. | B103: 5.2.2.05 | C103: Belanja Jasa Honorarium Petugas | F103: 2400000 | G103: dll
A104: 01.03.92 | C104: Pendataan Desa | F104: =F105+F116 -> 31875800 | G104: dd
A105: 01.03.92 | B105: 5.2. | C105: Belanja Barang dan Jasa | F105: =F106+F110+F113 -> 16005800
A106: 01.03.92 | B106: 5.2.1. | C106: Belanja Barang Perlengkapan | F106: =F107+F108+F109 -> 4505800
...

Sheet rancangan apbdesa 2024 (2)
E1: Lampiran Peraturan Desa
E2: Nomor : ........
E3: Tahun : 2023
A5: ANGGARAN PENDAPATAN DAN BELANJA DESA PEMERINTAH DESA KARANGANYAR
A7: TAHUN ANGGARAN 2024
A9: KODE REKENING | C9: URAIAN | D9: KELUARAN/OUTPUT | F9: ANGGARAN | G9: SUMBER DANA
D11: VOLUME | E11: SATUAN
A12: 1 | B12: 2 | C12: 3 | D12: 4 | E12: 5 | F12: 6 | G12: 7
B13: 4. | C13: PENDAPATAN
B15: 4.1. | C15: Pendapatan Asli Desa | F15: 240058000 | J15: =F15-H15 -> 240058000 | O15: =#REF! -> #REF!
B16: 4.2. | C16: Pendapatan Transfer | F16: 2454477000 | H16: 2209325000 | O16: =#REF!+#REF!+#REF!+#REF! -> #REF!
B17: 4.3. | C17: Pendapatan Lain-lain | F17: 4800000 | O17: =#REF! -> #REF!
C18: JUMLAH PENDAPATAN | F18: =F17+F16+F15 -> 2699335000 | O18: =O17+O16+O15 -> #REF!
B20: 5. | C20: BELANJA
A21: 1 | C21: BIDANG PENYELENGGARAN PEMERINTAHAN DESA | F21: =F22+F39+F41+F53+F66 -> 844944800 | O21: =O22+O39+O41+O53+O66 -> #REF!
A22: 01.01. | C22: Penyelenggaran Belanja Siltap, Tunjangan dan Operasional Pemerintahan Desa | F22: =F23+F25+F27+F29+F31+F33+F35+F37 -> 766189000 | O22: =O23+O25+O27+O29+O31+O33+O37 -> #REF!
A23: 1.01.01. | C23: Penyediaan Penghasilan Tetap dan Tunjangan Kepala Desa | F23: =F24 -> 122400000 | O23: =O24 -> #REF!
A24: 1.01.01. | B24: 5.1. | C24: Belanja Pegawai | F24: 122400000 | O24: =#REF! -> #REF!
A25: 1.01.02. | C25: Penyediaan Penghasilan Tetap dan Tunjangan Perangkat Desa | F25: =F26 -> 454500000 | O25: =O26 -> #REF!
A26: 1.01.02. | B26: 5.1. | C26: Belanja Pegawai | F26: 454500000 | O26: =#REF! -> #REF!
A27: 1.01.03. | C27: Penyediaan Jaminan Sosial bagi Kepala Desa dan Perangkat Desa | F27: =F28 -> 23756650 | O27: =O28 -> #REF!
A28: 1.01.03. | B28: 5.1. | C28: Belanja Pegawai | F28: 23756650 | O28: =#REF! -> #REF!
A29: 1.01.04. | C29: Penyediaan Operasional Pemerintah Desa (ATK, Honor PKPKD dan PPKD dll) | F29: =F30 -> 60321350 | O29: =O30 -> #REF!
A30: 1.01.04. | B30: 5.2. | C30: Belanja Barang dan Jasa | F30: 60321350 | O30: =#REF!+#REF!+#REF! -> #REF!
A31: 1.01.05. | C31: Penyediaan Tunjangan BPD | F31: =F32 -> 23400000 | O31: =O32 -> #REF!
A32: 1.01.05. | B32: 5.1. | C32: Belanja Pegawai | F32: 23400000 | G32: add | O32: =#REF! -> #REF!
A33: 1.01.06. | C33: Penyediaan Operasional BPD (rapat, ATK, Makan Minum, Pakaian Seragam, Listrik dll) | F33: =F34 -> 6061000 | G33: add | O33: =O34 -> #REF!
A34: 1.01.06. | B34: 5.2. | C34: Belanja Barang dan Jasa | F34: 6061000 | O34: =#REF! -> #REF!
A35: 1.01.07 | C35: Penyediaan Insentif/Operasional RT/RW | F35: =F36 -> 26750000
A36: 1.01.07 | B36: 5.2 | C36: Belanja barang dan jasa | F36: 26750000
A37: 1.01.08. | C37: Penyediaan Operasional Pemerintah Desa yang bersumber dari Dana Desa | F37: =F38 -> 49000000 | G37: dd | O37: =O38 -> #REF!
A38: 1.01.08. | B38: 5.2. | C38: Belanja Barang dan Jasa | F38: 49000000 | O38: =#REF!+#REF!+#REF! -> #REF!
A39: 01.02. | C39: Penyediaan Sarana Prasarana Pemerintahan Desa | F39: =F40 -> 5400000 | G39: add | O39: =O40 -> #REF!
A40: 1.02.01. | C40: Penyediaan Sarana (Aset Tetap) Perkantoran/Pemerintahan | F40: 5400000 | O40: =#REF! -> #REF!
A41: 01.03. | C41: Pengelolaan Administrasi Kependudukan, Pencatatan Sipil, Statistik dan Kearsipan | F41: =F42+F44+F46+F48+F51 -> 44475800 | O41: =O42+O44+O46+O48+O51 -> #REF!
A42: 1.03.01. | C42: Pelayanan Administrasi Umum dan Kependudukan | F42: =F43 -> 1500000 | G42: pbh | O42: =O43 -> #REF!
A43: 1.03.01. | B43: 5.2. | C43: Belanja Barang dan Jasa | F43: 1500000 | O43: =#REF! -> #REF!
A44: 1.03.02. | C44: Penyusunan, Pendataan, dan Pemutakhiran Profil Desa **) | F44: =F45 -> 5400000 | G44: add | O44: =O45 -> #REF!
A45: 1.03.02. | B45: 5.2. | C45: Belanja Barang dan Jasa | F45: 5400000 | O45: =#REF! -> #REF!
A46: 1.03.05. | C46: Pemetaan dan Analisis Kemiskinan Desa secara Partisipatif | F46: =F47 -> 2400000 | G46: dll | O46: =O47 -> #REF!
A47: 1.03.05. | B47: 5.2. | C47: Belanja Barang dan Jasa | F47: 2400000 | O47: =#REF! -> #REF!
A48: 01.03.92 | C48: Pendataan Desa | F48: =F49+F50 -> 31875800 | G48: dd | O48: =O49 -> #REF!
A49: 01.03.92 | B49: 5.2. | C49: Belanja Barang dan Jasa | F49: 16005800 | O49: =#REF!+#REF!+#REF!+#REF! -> #REF!
A50: 01.03.92 | B50: 5.3. | C50: Belanja Modal | F50: 15870000 | O50: =#REF! -> #REF!
A51: 01.03.93 | C51: Pelayanan Registrasi Kependudukan dan Pencatatan Sipil Tingkat Desa | F51: =F52 -> 3300000 | G51: pbh | O51: =O52 -> #REF!
A52: 01.03.93 | B52: 5.2. | C52: Belanja Barang dan Jasa | F52: 3300000 | O52: =#REF!+#REF! -> #REF!
A53: 01.04. | C53: Penyelenggaraan Tata Praja Pemerintahan, Perencanaan, Keuangan dan Pelaporan | F53: =F54+F56+F58+F60+F62+F64 -> 16880000 | O53: =O54+O56+O58+O60+O62+O64 -> #REF!
A54: 1.04.01. | C54: Penyelenggaraan Musyawarah Perencanaan Desa/Pembahasan APBDes (Reguler) | F54: =F55 -> 1700000 | G54: pbh | O54: =O55 -> #REF!
A55: 1.04.01. | B55: 5.2. | C55: Belanja Barang dan Jasa | F55: 1700000 | O55: =#REF! -> #REF!
A56: 1.04.02. | C56: Penyelenggaraan Musyawaran Desa Lainnya (Musdus, rembug desa Non Reguler) | F56: =F57 -> 1000000 | O56: =O57 -> #REF!
A57: 1.04.02. | B57: 5.2. | C57: Belanja Barang dan Jasa | F57: 1000000 | G57: pad | O57: =#REF! -> #REF!
A58: 1.04.03. | C58: Penyusunan Dokumen Perencanaan Desa (RPJMDesa/RKPDesa dll) | F58: =F59 -> 10000000 | G58: add | O58: =O59 -> #REF!
A59: 1.04.03. | B59: 5.2. | C59: Belanja Barang dan Jasa | F59: 10000000 | G59: add | O59: =#REF!+#REF! -> #REF!
A60: 1.04.04. | C60: Penyusunan Dokumen Keuangan Desa (APBDes, APBDes Perubahan, LPJ dll) | F60: =F61 -> 2400000 | G60: dll | O60: =O61 -> #REF!
A61: 1.04.04. | B61: 5.2. | C61: Belanja Barang dan Jasa | F61: 2400000 | O61: =#REF! -> #REF!
A62: 1.04.07. | C62: Penyusunan Laporan Kepala Desa, LPPDesa dan Informasi Kepada Masyarakat | F62: =F63 -> 780000 | O62: =O63 -> #REF!
A63: 1.04.07. | B63: 5.2 | C63: Belanja barang dan jasa | F63: 780000 | G63: pad | O63: =#REF! -> #REF!
A64: 1.04.97. | C64: Sosialisasi Berbagai Peraturan Perundang-undangan di Tingkat Desa | F64: =F65 -> 1000000 | O64: =O65 -> #REF!
A65: 1.04.97. | B65: 5.2 | C65: Belanja barang dan jasa | F65: 1000000 | G65: pad | O65: =#REF! -> #REF!
A66: 01.05. | C66: Sub Bidang Pertanahan | F66: =F67+F69 -> 12000000 | O66: =O67+O69 -> #REF!
A67: 1.05.06. | C67: Adminstrasi Pajak Bumi dan Bangunan (PBB) | F67: =F68 -> 8000000 | O67: =O68 -> #REF!
A68: 1.05.06. | B68: 5.2. | C68: Belanja Barang dan Jasa | F68: 8000000 | O68: =#REF!+#REF! -> #REF!
A69: 01.05.94 | C69: Pengelolaan Tanah Kas Desa | F69: =F70 -> 4000000 | G69: pad | O69: =O70 -> #REF!
A70: 01.05.94 | B70: 5.2. | C70: Belanja Barang dan Jasa | F70: 4000000 | O70: =#REF! -> #REF!
A72: 2 | C72: BIDANG PELAKSANAAN PEMBANGUNAN DESA | F72: =F73+F78+F89+F94+F99 -> 1550741150 | G72: DD | J72: =F37+F72+F123+F133 -> 1840396000 | O72: =O73+O78+O89+O94+O99 -> #REF!
A73: 02.01. | C73: Sub Bidang Pendidikan | F73: =F74+F76 -> 70540000 | O73: =O74+O76 -> #REF!
A74: 02.01.01 | C74: Penyelenggaran PAUD/TK/TPA/TKA/TPQ/Madrasah NonFormal Milik Desa (Honor, Pakaian dll) | F74: =F75 -> 69540000 | O74: =O75 -> #REF!
A75: 02.01.01 | B75: 5.2. | C75: Belanja Barang dan Jasa | F75: =53700000+15840000 -> 69540000 | O75: =#REF! -> #REF!
A76: 02.01.08 | C76: Pengelolaan Perpustakaan Milik Desa (Pengadaan Buku, Honor, Taman Baca) | F76: =F77 -> 1000000 | O76: =O77 -> #REF!
A77: 02.01.08 | B77: 5.2 | C77: Belanja barang dan jasa | F77: 1000000 | O77: =#REF! -> #REF!
A78: 02.02. | C78: Sub Bidang Kesehatan | F78: =F79+F81+F83+F85+F87 -> 127946000 | O78: =O79+O81+O83+O85+O87 -> #REF!
A79: 2.02.02. | C79: Penyelenggaraan Posyandu (Mkn Tambahan, Kls Bumil, Lamsia, Insentif) | F79: =F80 -> 45000000 | O79: =O80 -> #REF!
A80: 2.02.02. | B80: 5.2. | C80: Belanja Barang dan Jasa | F80: 45000000 | O80: =#REF! -> #REF!
A81: 2.02.04. | C81: Penyelenggaraan Desa Siaga Kesehatan | F81: =F82 -> 4946000 | O81: =O82 -> #REF!
A82: 2.02.04. | B82: 5.2. | C82: Belanja Barang dan Jasa | F82: 4946000 | O82: =#REF!+#REF! -> #REF!
A83: 02.02.90 | C83: Pengadaan/Pembangunan/Pengembangan/Pemeliharaan Sarana dan Prasarana Kesehatan/Air Bersih/Sanitasi/K | F83: =F84 -> 67500000 | O83: =#REF! -> #REF!
A84: 02.02.90 | B84: 5.3 | C84: Belanja Modal | F84: 67500000 | O84: =#REF! -> #REF!
A85: 02.02.91 | C85: Pengadaan/Pembangunan/Pengembangan/Pemeliharaan Sarana dan Prasarana Mobil/Kapal Motor untuk Ambu | F85: =F86 -> 7500000 | O85: =#REF! -> #REF!
A86: 02.02.91 | B86: 5.2 | C86: Belanja barang dan jasa | F86: 7500000 | O86: =#REF!+#REF!+#REF! -> #REF!
A87: 02.02.96 | C87: Pengadaan/pembangunan/pengembangan/ pemeliharaan sarana prasarana alat bantu penyandang disabilitas/p | F87: =F88 -> 3000000 | O87: =#REF! -> #REF!
A88: 02.02.96 | B88: 5.2 | C88: Belanja barang dan jasa | F88: 3000000 | O88: =#REF! -> #REF!
A89: 02.03. | C89: Sub Bidang Pekerjaan Umum dan Penataan Ruang | F89: =F90+F92 -> 1212725150 | O89: =O90+O92+O97 -> #REF!
A90: 2.03.10. | C90: Pembangunan/Rehabilitas/Peningkatan/Pengerasan Jalan Desa **) | F90: 867500100 | O90: =O91 -> #REF!
A91: 2.03.10. | B91: 5.3. | C91: Belanja Modal | F91: 867500100 | J91: =20%*1635334000 -> 327066800 | O91: =#REF! -> #REF!
A92: 2.03.12. | C92: Pembangunan/Rehabilitasi/Peningkatan/Pengerasan Jalan Usaha Tani **) | F92: 345225050 | H92: =F92+F90 -> 1212725150 | O92: =O93 -> #REF!
A93: 2.03.12. | B93: 5.3. | C93: Belanja Modal | F93: 345225050 | O93: =#REF! -> #REF!
A94: 02.04. | C94: Sub Bidang Kawasan Pemukiman | F94: =F95+F97 -> 110630000 | O94: =O95+O97 -> #REF!
A95: 2.04.01. | C95: Dukungan Pelaksanaan Program Pembangunan/Rehab Rumah Tidak Layak Huni GAKIN | F95: =F96 -> 60000000 | G95: pbp | O95: =O96 -> #REF!
A96: 2.04.01. | B96: 5.2. | C96: Belanja Barang dan Jasa | F96: 60000000 | O96: =#REF! -> #REF!
A97: 02.04.11 | C97: Pengadaan/pembangunan/pengembangan/ pemeliharaan Sarana dan Prasarana Kesehatan/ Air Bersih /sanitasi | F97: =F98 -> 50630000 | O97: =O98 -> #REF!
A98: 02.04.11 | B98: 5.3. | C98: Belanja Modal | F98: 50630000 | O98: =#REF! -> #REF!
A99: 02.06. | C99: Sub Bidang Perhubungan, Komunikasi dan Informatika | F99: =F100+F102 -> 28900000 | O99: =O100+O102 -> #REF!
A100: 2.06.02. | C100: Penyelenggaraan Informasi Publik Desa (Poster, Baliho Dll) | F100: =F101 -> 1800000 | O100: =O101 -> #REF!
A101: 2.06.02. | B101: 5.2. | C101: Belanja Barang dan Jasa | F101: 1800000 | O101: =#REF! -> #REF!
A102: 02.06.92 | C102: Pengadaan/pembangunan/pengembangan/pemeliharaan jaringan internet untuk warga Desa/website Desa/pera | F102: =F103 -> 27100000 | O102: =O103 -> #REF!
A103: 02.06.92 | B103: 5.2. | C103: Belanja Barang dan Jasa | F103: 27100000 | O103: =#REF!+#REF!+#REF! -> #REF!
A105: 3 | C105: BIDANG PEMBINAAN KEMASYARAKATAN | F105: =F107+F109+F113+F115 -> 62994200 | O105: =O115+O112+O118+O120 -> #REF!
A106: 03.01. | C106: Sub Bidang Ketenteraman, Ketertiban Umum dan Perlindungan Masyarakat | F106: =F107 -> 9000000
A107: 03.01.90 | C107: Pembinaan keamanan dan ketertiban | F107: =F108 -> 9000000
A108: 03.01.90 | B108: 5.2 | C108: Belanja barang dan jasa | F108: 9000000
...

Sheet Lembar3
B1: ADD | D1: DD | F1: PBH | H1: PBP | J1: PAD | L1: DLL
J2: 84000000
B3: ='perkades apbdesa 2024'!F38 -> 36000000 | D3: ='perkades apbdesa 2024'!F78 -> 49000000 | F3: 1500000 | H3: 60000000 | J3: 92400000 | L3: 2400000
B4: ='perkades apbdesa 2024'!F39 -> 2400000 | D4: ='perkades apbdesa 2024'!F104 -> 31875800 | F4: 3300000 | H4: 5000000 | J4: 23756650 | L4: 2400000
B5: ='perkades apbdesa 2024'!F44 -> 344700000 | D5: ='perkades apbdesa 2024'!F167-(235000000) -> 1315741150 | F5: 1700000 | H5: 100000000 | J5: 6321350
B6: ='perkades apbdesa 2024'!F45 -> 17400000 | D6: ='perkades apbdesa 2024'!F251 -> 12800000 | F6: 3000000 | H6: 75000000 | J6: 4500000
B7: ='perkades apbdesa 2024'!F59 -> 41700000 | D7: ='perkades apbdesa 2024'!F260 -> 10894200 | F7: 15800000 | J7: 4200000
B8: ='perkades apbdesa 2024'!F63 -> 23400000 | D8: ='perkades apbdesa 2024'!F296 -> 136254850 | J8: 3600000
B9: ='perkades apbdesa 2024'!F67 -> 6061000 | D9: ='perkades apbdesa 2024'!F323 -> 104400000 | J9: 1000000
B10: ='perkades apbdesa 2024'!F74 -> 26750000 | J10: 180000
B11: ='perkades apbdesa 2024'!F86 -> 5400000 | J11: 600000
B12: ='perkades apbdesa 2024'!F96 -> 5400000 | J12: 1000000
B13: ='perkades apbdesa 2024'!F135 -> 10000000 | J13: 5000000
B14: ='perkades apbdesa 2024'!F246 -> 9000000 | J14: 4000000
C15: =SUM(C3:C14) -> 0 | E15: =SUM(E3:E14) -> 0 | G15: =SUM(G3:G14) -> 0 | I15: =SUM(I3:I14) -> 0 | J15: 9500000 | K15: =SUM(K4:K14) -> 0 | M15: =SUM(M4:M14) -> 0
B17: =SUM(B3:B14) -> 528211000 | D17: =SUM(D3:D12) -> 1660966000 | F17: =SUM(F3:F14) -> 25300000 | H17: =SUM(H3:H14) -> 240000000 | J17: 240058000 | L17: 4800000 | N17: =SUM(B17:L17) -> 2699335000
J18: =SUM(J2:J17) -> 480116000
B19: 528211000 | D19: 1660966000 | J19: 240058000
D20: =D19-D17 -> 0 | J20: =J18-J19 -> 240058000
B21: =B19-B17 -> 0
