Workbook

Sheet perkades apbdesa 2024
E1: Lampiran Peraturan Kepala Desa
E2: Nomor : .....................
E3: Tahun : 2024
A5: PENJABARAN ANGGARAN PENDAPATAN DAN BELANJA DESA PEMERINTAH DESA KARANGANYAR
A7: TAHUN ANGGARAN 2024
A9: KODE REKENING | C9: URAIAN | D9: KELUARAN/OUT PUT | F9: ANGGARAN | G9: SUMBER DANA
D11: VOLUME | E11: SATUAN
A12: 1 | B12: 2 | C12: 3 | D12: 4 | E12: 5 | F12: 6 | G12: 7 | I12: =84000000+92400000 -> 176400000
B13: 4. | C13: PENDAPATAN | I13: =H15-I12 -> 63658000
B15: 4.1. | C15: Pendapatan Asli Desa | F15: =F16 -> 240058000 | H15: =F40+F46+F49+F56+F55+F58+F161+F165+F61+F134+F149+F150+F154+F275+F273 -> 240058000 | J15: =F15-H15 -> 0
B16: 4.1.2. | C16: Hasil Aset Desa | F16: 240058000
B17: 4.1.2.01 | C17: Pengelolaan Tanah Kas Desa | F17: 240058000
B18: 4.2. | C18: Pendapatan Transfer | F18: =F19+F21+F23+F25 -> 2454477000 | H18: =F19+F21+F23+F25 -> 2454477000
B19: 4.2.1. | C19: Dana Desa | F19: =F20 -> 1660966000
B20: 4.2.1.01 | C20: Dana Desa | F20: 1660966000 | H20: =F78+(F167-60000000)+F296+F323+F251+F260+F104 -> 1835966000 | J20: =F20-H20 -> -175000000 | K20: =F339-J20 -> 175000000
B21: 4.2.2. | C21: Bagi Hasil Pajak dan Retribusi | F21: =F22 -> 25300000 | H21: =F159+F276+F119+F126+F92 -> 25300000 | J21: =F21-H21 -> 0
B22: 4.2.2.01 | C22: Bagi Hasil Pajak dan Retribusi Daerah Kabupaten/Kota | F22: 25300000
B23: 4.2.3. | C23: Alokasi Dana Desa | F23: =F24 -> 528211000
B24: 4.2.3.01 | C24: Alokasi Dana Desa | F24: 528211000 | H24: =F38+F39+F44+F45+F59+F63+F67+F86+F96+F135 -> 492461000 | J24: =F24-H24 -> 35750000
B25: 4.2.4. | C25: Bantuan Keuangan Provinsi | F25: =F26 -> 240000000 | H25: =F223+F287 -> 65000000 | J25: =F25-H25 -> 175000000
B26: 4.2.4.01 | C26: Bantuan Keuangan dari APBD Provinsi | F26: =65000000+175000000 -> 240000000
B27: 4.3. | C27: Pendapatan Lain-lain | F27: =F28 -> 4800000
B28: 4.3.6. | C28: Bunga Bank | F28: =F29 -> 4800000
B29: 4.3.6.01 | C29: Bunga Bank | F29: 4800000 | H29: =F100+F142 -> 4800000 | J29: =F29-H29 -> 0
C30: JUMLAH PENDAPATAN | F30: =F27+F18+F15 -> 2699335000
J31: =H15+H18+F27 -> 2699335000
B32: 5. | C32: BELANJA
A33: 1 | C33: BIDANG PENYELENGGARAN PEMERINTAHAN DESA | F33: =F34+F86+F91+F125+F155 -> 844944800
A34: 01.01. | C34: Penyelenggaran Belanja Siltap, Tunjangan dan Operasional Pemerintahan Desa | F34: =F35+F41+F47+F52+F62+F67+F74+F78 -> 766189000
A35: 1.01.01. | C35: Penyediaan Penghasilan Tetap dan Tunjangan Kepala Desa | F35: =F36 -> 122400000
A36: 1.01.01. | B36: 5.1. | C36: Belanja Pegawai | F36: =F37 -> 122400000
A37: 1.01.01. | B37: 5.1.1. | C37: Penghasilan Tetap dan Tunjangan Kepala Desa | F37: =F38+F39+F40 -> 122400000
A38: 1.01.01. | B38: 5.1.1.01 | C38: Penghasilan Tetap Kepala Desa | F38: 36000000 | G38: add
A39: 1.01.01. | B39: 5.1.1.02 | C39: Tunjangan Kepala Desa | F39: 2400000 | G39: add
A40: 1.01.01. | B40: 5.1.1.90 | C40: Tambahan Tunjangan Kepala Desa | F40: 84000000 | G40: pad
A41: 1.01.02. | C41: Penyediaan Penghasilan Tetap dan Tunjangan Perangkat Desa | F41: =F42 -> 454500000 | J41: 92400000
A42: 1.01.02. | B42: 5.1. | C42: Belanja Pegawai | F42: =F43 -> 454500000 | J42: 23756650
A43: 1.01.02. | B43: 5.1.2. | C43: Penghasilan Tetap dan Tunjangan Perangkat Desa | F43: =F44+F45+F46 -> 454500000 | J43: 6321350
A44: 1.01.02. | B44: 5.1.2.01 | C44: Penghasilan Tetap Perangkat Desa | F44: 344700000 | G44: add | J44: 4500000
A45: 1.01.02. | B45: 5.1.2.02 | C45: Tunjangan Perangkat Desa | F45: 17400000 | G45: add | J45: 3600000
...

Sheet rancangan apbdesa 2024 (2)
E1: Lampiran Peraturan Desa
E2: Nomor : ........
E3: Tahun : 2023
A5: ANGGARAN PENDAPATAN DAN BELANJA DESA PEMERINTAH DESA KARANGANYAR
A7: TAHUN ANGGARAN 2024
A9: KODE REKENING | C9: URAIAN | D9: KELUARAN/OUTPUT | F9: ANGGARAN | G9: SUMBER DANA
D11: VOLUME | E11: SATUAN
A12: 1 | B12: 2 | C12: 3 | D12: 4 | E12: 5 | F12: 6 | G12: 7
B13: 4. | C13: PENDAPATAN
B15: 4.1. | C15: Pendapatan Asli Desa | F15: 240058000 | J15: =F15-H15 -> 240058000 | O15: =#REF! -> #REF!
B16: 4.2. | C16: Pendapatan Transfer | F16: 2454477000 | H16: 2209325000 | O16: =#REF!+#REF!+#REF!+#REF! -> #REF!
B17: 4.3. | C17: Pendapatan Lain-lain | F17: 4800000 | O17: =#REF! -> #REF!
C18: JUMLAH PENDAPATAN | F18: =F17+F16+F15 -> 2699335000 | O18: =O17+O16+O15 -> #REF!
B20: 5. | C20: BELANJA
A21: 1 | C21: BIDANG PENYELENGGARAN PEMERINTAHAN DESA | F21: =F22+F39+F41+F53+F66 -> 844944800 | O21: =O22+O39+O41+O53+O66 -> #REF!
A22: 01.01. | C22: Penyelenggaran Belanja Siltap, Tunjangan dan Operasional Pemerintahan Desa | F22: =F23+F25+F27+F29+F31+F33+F35+F37 -> 766189000 | O22: =O23+O25+O27+O29+O31+O33+O37 -> #REF!
A23: 1.01.01. | C23: Penyediaan Penghasilan Tetap dan Tunjangan Kepala Desa | F23: =F24 -> 122400000 | O23: =O24 -> #REF!
A24: 1.01.01. | B24: 5.1. | C24: Belanja Pegawai | F24: 122400000 | O24: =#REF! -> #REF!
A25: 1.01.02. | C25: Penyediaan Penghasilan Tetap dan Tunjangan Perangkat Desa | F25: =F26 -> 454500000 | O25: =O26 -> #REF!
A26: 1.01.02. | B26: 5.1. | C26: Belanja Pegawai | F26: 454500000 | O26: =#REF! -> #REF!
A27: 1.01.03. | C27: Penyediaan Jaminan Sosial bagi Kepala Desa dan Perangkat Desa | F27: =F28 -> 23756650 | O27: =O28 -> #REF!
A28: 1.01.03. | B28: 5.1. | C28: Belanja Pegawai | F28: 23756650 | O28: =#REF! -> #REF!
A29: 1.01.04. | C29: Penyediaan Operasional Pemerintah Desa (ATK, Honor PKPKD dan PPKD dll) | F29: =F30 -> 60321350 | O29: =O30 -> #REF!
A30: 1.01.04. | B30: 5.2. | C30: Belanja Barang dan Jasa | F30: 60321350 | O30: =#REF!+#REF!+#REF! -> #REF!
A31: 1.01.05. | C31: Penyediaan Tunjangan BPD | F31: =F32 -> 23400000 | O31: =O32 -> #REF!
A32: 1.01.05. | B32: 5.1. | C32: Belanja Pegawai | F32: 23400000 | G32: add | O32: =#REF! -> #REF!
A33: 1.01.06. | C33: Penyediaan Operasional BPD (rapat, ATK, Makan Minum, Pakaian Seragam, Listrik dll) | F33: =F34 -> 6061000 | G33: add | O33: =O34 -> #REF!
A34: 1.01.06. | B34: 5.2. | C34: Belanja Barang dan Jasa | F34: 6061000 | O34: =#REF! -> #REF!
A35: 1.01.07 | C35: Penyediaan Insentif/Operasional RT/RW | F35: =F36 -> 26750000
A36: 1.01.07 | B36: 5.2 | C36: Belanja barang dan jasa | F36: 26750000
A37: 1.01.08. | C37: Penyediaan Operasional Pemerintah Desa yang bersumber dari Dana Desa | F37: =F38 -> 49000000 | G37: dd | O37: =O38 -> #REF!
A38: 1.01.08. | B38: 5.2. | C38: Belanja Barang dan Jasa | F38: 49000000 | O38: =#REF!+#REF!+#REF! -> #REF!
A39: 01.02. | C39: Penyediaan Sarana Prasarana Pemerintahan Desa | F39: =F40 -> 5400000 | G39: add | O39: =O40 -> #REF!
A40: 1.02.01. | C40: Penyediaan Sarana (Aset Tetap) Perkantoran/Pemerintahan | F40: 5400000 | O40: =#REF! -> #REF!
A41: 01.03. | C41: Pengelolaan Administrasi Kependudukan, Pencatatan Sipil, Statistik dan Kearsipan | F41: =F42+F44+F46+F48+F51 -> 44475800 | O41: =O42+O44+O46+O48+O51 -> #REF!
A42: 1.03.01. | C42: Pelayanan Administrasi Umum dan Kependudukan | F42: =F43 -> 1500000 | G42: pbh | O42: =O43 -> #REF!
A43: 1.03.01. | B43: 5.2. | C43: Belanja Barang dan Jasa | F43: 1500000 | O43: =#REF! -> #REF!
A44: 1.03.02. | C44: Penyusunan, Pendataan, dan Pemutakhiran Profil Desa **) | F44: =F45 -> 5400000 | G44: add | O44: =O45 -> #REF!
A45: 1.03.02. | B45: 5.2. | C45: Belanja Barang dan Jasa | F45: 5400000 | O45: =#REF! -> #REF!
A46: 1.03.05. | C46: Pemetaan dan Analisis Kemiskinan Desa secara Partisipatif | F46: =F47 -> 2400000 | G46: dll | O46: =O47 -> #REF!
...

Sheet Lembar3
B1: ADD | D1: DD | F1: PBH | H1: PBP | J1: PAD | L1: DLL
J2: 84000000
B3: ='perkades apbdesa 2024'!F38 -> 36000000 | D3: ='perkades apbdesa 2024'!F78 -> 49000000 | F3: 1500000 | H3: 60000000 | J3: 92400000 | L3: 2400000
B4: ='perkades apbdesa 2024'!F39 -> 2400000 | D4: ='perkades apbdesa 2024'!F104 -> 31875800 | F4: 3300000 | H4: 5000000 | J4: 23756650 | L4: 2400000
B5: ='perkades apbdesa 2024'!F44 -> 344700000 | D5: ='perkades apbdesa 2024'!F167-(235000000) -> 1315741150 | F5: 1700000 | H5: 100000000 | J5: 6321350
B6: ='perkades apbdesa 2024'!F45 -> 17400000 | D6: ='perkades apbdesa 2024'!F251 -> 12800000 | F6: 3000000 | H6: 75000000 | J6: 4500000
B7: ='perkades apbdesa 2024'!F59 -> 41700000 | D7: ='perkades apbdesa 2024'!F260 -> 10894200 | F7: 15800000 | J7: 4200000
B8: ='perkades apbdesa 2024'!F63 -> 23400000 | D8: ='perkades apbdesa 2024'!F296 -> 136254850 | J8: 3600000
B9: ='perkades apbdesa 2024'!F67 -> 6061000 | D9: ='perkades apbdesa 2024'!F323 -> 104400000 | J9: 1000000
B10: ='perkades apbdesa 2024'!F74 -> 26750000 | J10: 180000
B11: ='perkades apbdesa 2024'!F86 -> 5400000 | J11: 600000
B12: ='perkades apbdesa 2024'!F96 -> 5400000 | J12: 1000000
B13: ='perkades apbdesa 2024'!F135 -> 10000000 | J13: 5000000
B14: ='perkades apbdesa 2024'!F246 -> 9000000 | J14: 4000000
C15: =SUM(C3:C14) -> 0 | E15: =SUM(E3:E14) -> 0 | G15: =SUM(G3:G14) -> 0 | I15: =SUM(I3:I14) -> 0 | J15: 9500000 | K15: =SUM(K4:K14) -> 0 | M15: =SUM(M4:M14) -> 0
B17: =SUM(B3:B14) -> 528211000 | D17: =SUM(D3:D12) -> 1660966000 | F17: =SUM(F3:F14) -> 25300000 | H17: =SUM(H3:H14) -> 240000000 | J17: 240058000 | L17: 4800000 | N17: =SUM(B17:L17) -> 2699335000
J18: =SUM(J2:J17) -> 480116000
B19: 528211000 | D19: 1660966000 | J19: 240058000
D20: =D19-D17 -> 0 | J20: =J18-J19 -> 240058000
B21: =B19-B17 -> 0
